Workbook

Sheet 01
A1: 2021年度国費外国人留学生（研究留学生〔特別枠〕）推薦調書（別紙様式１）
A3: 大学名 | H3: =IFERROR(VLOOKUP(W3,'データ（学校番号・国番号等）'!A2:B789,2,FALSE),"自動表示") -> 自動表示 | S3: 学校番号
A5: 申請区分 | H5: 特別枠 | Q5: プログラム番号 | AF5: 区分中推薦順位
A6: 氏名 | AF6: 第 | AI6: 位/ | AM6: 人中
A7: 生年月日 | N7: 年 | R7: 月 | V7: 日 | W7: （ | X7: =IFERROR(IF($AQ$7="","",DATEDIF($AQ$7,$AP$7,"Y")),"") | AA7: 才） | AC7: 性別 | AP7: 44287 | AQ7: =IF($S$7="","",H7&"/"&O7&"/"&S7)
A8: 国籍 | H8: =IFERROR(VLOOKUP(AB8,'データ（学校番号・国番号等）'!E2:F206,2,FALSE),"自動表示") -> 自動表示 | W8: 国番号
A9: 現住所 | H9: 都市名（又は州・県） | W9: 国名 | Z9: =IFERROR(VLOOKUP(AJ9,'データ（学校番号・国番号等）'!E2:F206,2,FALSE),"自動表示") -> 自動表示 | AG9: 国番号
A10: 渡日前住所 | H10: 都市名（又は州・県） | W10: 国名 | Z10: =IFERROR(VLOOKUP(AJ10,'データ（学校番号・国番号等）'!E2:F206,2,FALSE),"自動表示") -> 自動表示 | AG10: 国番号
A11: 電話番号 | U11: E-mail
A12: 研究分野・専攻分野（日本語で記入） | H12: 研究分野 （ | X12: ） | Y12: 専攻分野 （ | AO12: ）
H13: 特に | AK13: に関する研究
A14: 学位論文題目 | H14: 学位の別 | L14: 論文 題目
A16: （入学時点での） 最終学歴 | H16: 大学名
H17: 学部・研究科名
H18: 課程 | N18: （ | V18: ） | W18: 課程における主要言語 | AE18: （ | AO18: ）
L19: 年 | O19: 月 | V19: ( | AE19: ) | AF19: 修学年数合計 | AO19: 年
A20: 学業成績係数 | R20: 該当する語学能力条件番号
A21: 日本語能力（資格） | H21: 日本語能力試験（JLPT） | P21: レベル | U21: 総合得点 | Z21: その他の資格名 | AJ21: 得点／スコア等
A22: 英語能力（資格） | H22: TOEFL | K22: iBT | O22: その他種別 | V22: IELTS | Z22: その他の資格名 | AJ22: 得点／スコア等
A23: 希望奨学金支給期間 | H23: 2021 | K23: 年 | O23: 月から | R23: 20 | V23: 年 | Z23: 月まで | AE23: =IF(W23="","",DATEDIF(DATE("2021",L23,1),IF(W23="12",DATE(T23+2001,1,1),DATE(T23+2000,W23+1,1)),"M")) | AI23: ヶ月間 | AP23: =IF(L23="","",H23&"."&L23)
A24: 留学希望期間 | H24: 2021 | K24: 年 | O24: 月から | R24: 20 | V24: 年 | Z24: 月まで | AE24: =IF(W24="","",DATEDIF(DATE("2021",L24,1),IF(W24="12",DATE(T24+2001,1,1),DATE(T24+2000,W24+1,1)),"M")) | AI24: ヶ月間 | AP24: =IF(T23="","",R23&T23&"."&W23)
A25: 受入れ予定研究科 | H25: 研究科名
H26: 指導教員名 | Z26: 在籍身分
A27: 推薦理由
A35: 推薦区分 | T35: 外為法確認(確認の上「○」を選択すること）
A36: 最新の職歴 | H36: 勤務先名
H37: 役職名
H38: 勤務期間 | R38: 年 | U38: 月 | V38: ～ | AA38: 年 | AD38: 月
A39: 他の奨学金の応募・受給状況
A40: 日本滞在経験がある場合、その期間等 | H40: （ | M40: ） | N40: （有の場合は、その期間、目的を記入。旅行は含まない）
L41: 年 | O41: 月 | P41: ～ | U41: 年 | X41: 月 | Y41: (目的： | AO41: )
L42: 年 | O42: 月 | P42: ～ | U42: 年 | X42: 月 | Y42: (目的： | AO42: )
A43: 国費留学の経験 | H43: （ | M43: ） | N43: （有の場合は、その期間、在籍学校名、プログラム名、3年間の学業又は職務経歴の有無を入力）
L44: 年 | O44: 月 | P44: ～ | U44: 年 | X44: 月
H45: 学校名 | AB45: プログラム名
H46: 前回の受給終了から本奨学金支給開始までに通算3年間の学業又は職務経歴があるか。 ※日本語・日本文化研修留学生、日韓共同理工系学部留学生、ヤング・リーダーズ・プログラム留学生は除く
A47: 文部科学省への推薦
A48: 査証申請予定の 国籍国在外公館
A49: 出発国・都市名 （空港所在地名） | H49: 都市名 | T49: 国名 | W49: =IFERROR(VLOOKUP(AI49,'データ（学校番号・国番号等）'!E2:F206,2,FALSE),"自動表示") -> 自動表示 | AF49: 国番号
A50: 備考

Sheet 推薦者一覧
B1: ※ 本シートのコメントが付された欄以外は、別紙様式１「推薦調書」シートから必要な事項がリンクされますので、入力不要です。
B2: ※ 本シートにて入力漏れや誤りを発見した場合は、必ずリンク元の別紙様式１「推薦調書」シートを修正してください。反映までに時間がかかる場合があります。（本シートを修正しないでください）。
B4: 2021年度国費外国人留学生（研究留学生）推薦者一覧
B5: 大学名
B6: 担当課・担当者名
B7: 問い合わせ先TEL
B8: 問い合わせ先E-mail
C10: 推薦者数合計 | F10: 人
B12: 推薦者一覧（別紙様式２）
B13: 学校番号 | C13: 大学名 | D13: 受入れ予定 研究科名 | E13: 受入れ予定 指導教員名 | F13: ﾌﾟﾛｸﾞﾗﾑ 番号 | G13: 推薦 順位 | H13: 国番号 | I13: 国籍 | J13: 氏 名 | K13: 性別 | L13: 生年月日 | M13: 現住所 | O13: 渡日前住所 | Q13: 電話番号 | R13: E-mail | S13: 研究分野 | T13: 専攻分野 | U13: 最終学歴 | AA13: 修学年数合計 | AB13: 学業成績係数 | AC13: 該当する語学能力条件番号 | AD13: 日本語能力（資格） | AH13: 英語能力（資格） | AM13: 希望奨学金支給期間 | AR13: 在籍 身分 | AS13: 推薦 区分 (①,②,③) | AT13: 外為法確認 | AU13: 最新職歴 | BA13: 他の奨学金の応募・受給状況 | BB13: 日本滞在経験 | BC13: 国費留学の経験 | BK13: 文部科学省への推薦 | BL13: 出発国・都市名 （空港所在地名） | BN13: 査証申請予定の 国籍国在外公館 | BO13: 備 考
M14: 都市名（又は州・県） | N14: 国名 | O14: 都市名（又は州・県） | P14: 国名 | U14: 大学名 | V14: 学部・研究科名 | W14: 課程 | X14: 課程における主要言語 | Y14: 卒業（修了）年月 | AD14: 日本語能力試験 JLPT | AF14: その他の資格 | AH14: TOEFL | AJ14: IELTS | AK14: その他の資格 | AM14: 開始年月 | AO14: 終了年月 | AQ14: 期間 | AU14: 勤務先名 | AV14: 役職名 | AW14: 勤務期間 | BC14: 有無 | BD14: 開始年月 | BF14: 終了年月 | BH14: 学校名 | BI14: プログラム名 | BJ14: 3年間の教育研究の経歴
Y15: 年 | Z15: 月 | AD15: レベル | AE15: 総合得点 | AF15: 資格名 | AG15: 得点／スコア等 | AH15: iBT | AI15: その他 種別 | AK15: 資格名 | AL15: 得点／スコア等 | AM15: 年 | AN15: 月 | AO15: 年 | AP15: 月 | AW15: 年 | AX15: 月 | AY15: 年 | AZ15: 月 | BD15: 年 | BE15: 月 | BF15: 年 | BG15: 月 | BL15: 都市名 | BM15: 国名
A16: 01 | B16: =INDIRECT(A16&"!W3") -> 0 | C16: =INDIRECT(A16&"!H3") -> 自動表示 | D16: =INDIRECT(A16&"!O25") -> 0 | E16: =INDIRECT(A16&"!O26") -> 0 | F16: =INDIRECT(A16&"!Y5") -> 0 | G16: =INDIRECT(A16&"!AG6") -> 0 | H16: =INDIRECT(A16&"!AB8") -> 0 | I16: =INDIRECT(A16&"!H8") -> 自動表示 | J16: =INDIRECT(A16&"!H6") -> 0 | K16: =INDIRECT(A16&"!AF7") -> 0 | L16: =INDIRECT(A16&"!AQ7") | M16: =INDIRECT(A16&"!L9") -> 0 | N16: =INDIRECT(A16&"!Z9") -> 自動表示 | O16: =INDIRECT(A16&"!L10") -> 0 | P16: =INDIRECT(A16&"!Z10") -> 自動表示 | Q16: =INDIRECT(A16&"!H11") -> 0 | R16: =INDIRECT(A16&"!Z11") -> 0 | S16: =INDIRECT(A16&"!M12") -> 0 | T16: =INDIRECT(A16&"!AD12") -> 0 | U16: =INDIRECT(A16&"!N16") -> 0 | V16: =INDIRECT(A16&"!N17") -> 0 | W16: =INDIRECT(A16&"!O18") -> 0 | X16: =INDIRECT(A16&"!AF18") -> 0 | Y16: =INDIRECT(A16&"!H19") -> 0 | Z16: =INDIRECT(A16&"!M19") -> 0 | AA16: =INDIRECT(A16&"!AK19") -> 0 | AB16: =INDIRECT(A16&"!H20") -> 0 | AC16: =INDIRECT(A16&"!AC20") -> 0 | AD16: =INDIRECT(A16&"!S21") -> 0 | AE16: =INDIRECT(A16&"!X21") -> 0 | AF16: =INDIRECT(A16&"!AD21") -> 0 | AG16: =INDIRECT(A16&"!AM21") -> 0 | AH16: =INDIRECT(A16&"!M22") -> 0 | AI16: =INDIRECT(A16&"!S22") -> 0 | AJ16: =INDIRECT(A16&"!X22") -> 0 | AK16: =INDIRECT(A16&"!AD22") -> 0 | AL16: =INDIRECT(A16&"!AM22") -> 0 | AM16: =INDIRECT(A16&"!H23") -> 2021 | AN16: =INDIRECT(A16&"!L23") -> 0 | AO16: ="20"&INDIRECT(A16&"!T23") -> 20 | AP16: =INDIRECT(A16&"!W23") -> 0 | AQ16: =INDIRECT(A16&"!AE23") | AR16: =INDIRECT(A16&"!AG26") -> 0 | AS16: =INDIRECT(A16&"!H35") -> 0 | AT16: =INDIRECT(A16&"!AL35") -> 0 | AU16: =INDIRECT(A16&"!N36") -> 0 | AV16: =INDIRECT(A16&"!N37") -> 0 | AW16: =INDIRECT(A16&"!N38") -> 0 | AX16: =INDIRECT(A16&"!S38") -> 0 | AY16: =INDIRECT(A16&"!W38") -> 0 | AZ16: =INDIRECT(A16&"!AB38") -> 0 | BA16: =INDIRECT(A16&"!H39") -> 0 | BB16: =INDIRECT(A16&"!I40") -> 0 | BC16: =INDIRECT(A16&"!I43") -> 0 | BD16: =INDIRECT(A16&"!H44") -> 0 | BE16: =INDIRECT(A16&"!M44") -> 0 | BF16: =INDIRECT(A16&"!Q44") -> 0 | BG16: =INDIRECT(A16&"!V44") -> 0 | BH16: =INDIRECT(A16&"!L45") -> 0 | BI16: =INDIRECT(A16&"!AE45") -> 0 | BJ16: =INDIRECT(A16&"!AL46") -> 0 | BK16: =INDIRECT(A16&"!H47") -> 0 | BL16: =INDIRECT(A16&"!K49") -> 0 | BM16: =INDIRECT(A16&"!W49") -> 自動表示 | BN16: =INDIRECT(A16&"!H48") -> 0 | BO16: =INDIRECT(A16&"!H50") -> 0
A17: 02 | B17: =INDIRECT(A17&"!W3") -> #REF! | C17: =INDIRECT(A17&"!H3") -> #REF! | D17: =INDIRECT(A17&"!O25") -> #REF! | E17: =INDIRECT(A17&"!O26") -> #REF! | F17: =INDIRECT(A17&"!Y5") -> #REF! | G17: =INDIRECT(A17&"!AG6") -> #REF! | H17: =INDIRECT(A17&"!AB8") -> #REF! | I17: =INDIRECT(A17&"!H8") -> #REF! | J17: =INDIRECT(A17&"!H6") -> #REF! | K17: =INDIRECT(A17&"!AF7") -> #REF! | L17: =INDIRECT(A17&"!AQ7") -> #REF! | M17: =INDIRECT(A17&"!L9") -> #REF! | N17: =INDIRECT(A17&"!Z9") -> #REF! | O17: =INDIRECT(A17&"!L10") -> #REF! | P17: =INDIRECT(A17&"!Z10") -> #REF! | Q17: =INDIRECT(A17&"!H11") -> #REF! | R17: =INDIRECT(A17&"!Z11") -> #REF! | S17: =INDIRECT(A17&"!M12") -> #REF! | T17: =INDIRECT(A17&"!AD12") -> #REF! | U17: =INDIRECT(A17&"!N16") -> #REF! | V17: =INDIRECT(A17&"!N17") -> #REF! | W17: =INDIRECT(A17&"!O18") -> #REF! | X17: =INDIRECT(A17&"!AF18") -> #REF! | Y17: =INDIRECT(A17&"!H19") -> #REF! | Z17: =INDIRECT(A17&"!M19") -> #REF! | AA17: =INDIRECT(A17&"!AK19") -> #REF! | AB17: =INDIRECT(A17&"!H20") -> #REF! | AC17: =INDIRECT(A17&"!AC20") -> #REF! | AD17: =INDIRECT(A17&"!S21") -> #REF! | AE17: =INDIRECT(A17&"!X21") -> #REF! | AF17: =INDIRECT(A17&"!AD21") -> #REF! | AG17: =INDIRECT(A17&"!AM21") -> #REF! | AH17: =INDIRECT(A17&"!M22") -> #REF! | AI17: =INDIRECT(A17&"!S22") -> #REF! | AJ17: =INDIRECT(A17&"!X22") -> #REF! | AK17: =INDIRECT(A17&"!AD22") -> #REF! | AL17: =INDIRECT(A17&"!AM22") -> #REF! | AM17: =INDIRECT(A17&"!H23") -> #REF! | AN17: =INDIRECT(A17&"!L23") -> #REF! | AO17: ="20"&INDIRECT(A17&"!T23") -> #REF! | AP17: =INDIRECT(A17&"!W23") -> #REF! | AQ17: =INDIRECT(A17&"!AE23") -> #REF! | AR17: =INDIRECT(A17&"!AG26") -> #REF! | AS17: =INDIRECT(A17&"!H35") -> #REF! | AT17: =INDIRECT(A17&"!AL35") -> #REF! | AU17: =INDIRECT(A17&"!N36") -> #REF! | AV17: =INDIRECT(A17&"!N37") -> #REF! | AW17: =INDIRECT(A17&"!N38") -> #REF! | AX17: =INDIRECT(A17&"!S38") -> #REF! | AY17: =INDIRECT(A17&"!W38") -> #REF! | AZ17: =INDIRECT(A17&"!AB38") -> #REF! | BA17: =INDIRECT(A17&"!H39") -> #REF! | BB17: =INDIRECT(A17&"!I40") -> #REF! | BC17: =INDIRECT(A17&"!I43") -> #REF! | BD17: =INDIRECT(A17&"!H44") -> #REF! | BE17: =INDIRECT(A17&"!M44") -> #REF! | BF17: =INDIRECT(A17&"!Q44") -> #REF! | BG17: =INDIRECT(A17&"!V44") -> #REF! | BH17: =INDIRECT(A17&"!L45") -> #REF! | BI17: =INDIRECT(A17&"!AE45") -> #REF! | BJ17: =INDIRECT(A17&"!AL46") -> #REF! | BK17: =INDIRECT(A17&"!H47") -> #REF! | BL17: =INDIRECT(A17&"!K49") -> #REF! | BM17: =INDIRECT(A17&"!W49") -> #REF! | BN17: =INDIRECT(A17&"!H48") -> #REF! | BO17: =INDIRECT(A17&"!H50") -> #REF!
A18: 03 | B18: =INDIRECT(A18&"!W3") -> #REF! | C18: =INDIRECT(A18&"!H3") -> #REF! | D18: =INDIRECT(A18&"!O25") -> #REF! | E18: =INDIRECT(A18&"!O26") -> #REF! | F18: =INDIRECT(A18&"!Y5") -> #REF! | G18: =INDIRECT(A18&"!AG6") -> #REF! | H18: =INDIRECT(A18&"!AB8") -> #REF! | I18: =INDIRECT(A18&"!H8") -> #REF! | J18: =INDIRECT(A18&"!H6") -> #REF! | K18: =INDIRECT(A18&"!AF7") -> #REF! | L18: =INDIRECT(A18&"!AQ7") -> #REF! | M18: =INDIRECT(A18&"!L9") -> #REF! | N18: =INDIRECT(A18&"!Z9") -> #REF! | O18: =INDIRECT(A18&"!L10") -> #REF! | P18: =INDIRECT(A18&"!Z10") -> #REF! | Q18: =INDIRECT(A18&"!H11") -> #REF! | R18: =INDIRECT(A18&"!Z11") -> #REF! | S18: =INDIRECT(A18&"!M12") -> #REF! | T18: =INDIRECT(A18&"!AD12") -> #REF! | U18: =INDIRECT(A18&"!N16") -> #REF! | V18: =INDIRECT(A18&"!N17") -> #REF! | W18: =INDIRECT(A18&"!O18") -> #REF! | X18: =INDIRECT(A18&"!AF18") -> #REF! | Y18: =INDIRECT(A18&"!H19") -> #REF! | Z18: =INDIRECT(A18&"!M19") -> #REF! | AA18: =INDIRECT(A18&"!AK19") -> #REF! | AB18: =INDIRECT(A18&"!H20") -> #REF! | AC18: =INDIRECT(A18&"!AC20") -> #REF! | AD18: =INDIRECT(A18&"!S21") -> #REF! | AE18: =INDIRECT(A18&"!X21") -> #REF! | AF18: =INDIRECT(A18&"!AD21") -> #REF! | AG18: =INDIRECT(A18&"!AM21") -> #REF! | AH18: =INDIRECT(A18&"!M22") -> #REF! | AI18: =INDIRECT(A18&"!S22") -> #REF! | AJ18: =INDIRECT(A18&"!X22") -> #REF! | AK18: =INDIRECT(A18&"!AD22") -> #REF! | AL18: =INDIRECT(A18&"!AM22") -> #REF! | AM18: =INDIRECT(A18&"!H23") -> #REF! | AN18: =INDIRECT(A18&"!L23") -> #REF! | AO18: ="20"&INDIRECT(A18&"!T23") -> #REF! | AP18: =INDIRECT(A18&"!W23") -> #REF! | AQ18: =INDIRECT(A18&"!AE23") -> #REF! | AR18: =INDIRECT(A18&"!AG26") -> #REF! | AS18: =INDIRECT(A18&"!H35") -> #REF! | AT18: =INDIRECT(A18&"!AL35") -> #REF! | AU18: =INDIRECT(A18&"!N36") -> #REF! | AV18: =INDIRECT(A18&"!N37") -> #REF! | AW18: =INDIRECT(A18&"!N38") -> #REF! | AX18: =INDIRECT(A18&"!S38") -> #REF! | AY18: =INDIRECT(A18&"!W38") -> #REF! | AZ18: =INDIRECT(A18&"!AB38") -> #REF! | BA18: =INDIRECT(A18&"!H39") -> #REF! | BB18: =INDIRECT(A18&"!I40") -> #REF! | BC18: =INDIRECT(A18&"!I43") -> #REF! | BD18: =INDIRECT(A18&"!H44") -> #REF! | BE18: =INDIRECT(A18&"!M44") -> #REF! | BF18: =INDIRECT(A18&"!Q44") -> #REF! | BG18: =INDIRECT(A18&"!V44") -> #REF! | BH18: =INDIRECT(A18&"!L45") -> #REF! | BI18: =INDIRECT(A18&"!AE45") -> #REF! | BJ18: =INDIRECT(A18&"!AL46") -> #REF! | BK18: =INDIRECT(A18&"!H47") -> #REF! | BL18: =INDIRECT(A18&"!K49") -> #REF! | BM18: =INDIRECT(A18&"!W49") -> #REF! | BN18: =INDIRECT(A18&"!H48") -> #REF! | BO18: =INDIRECT(A18&"!H50") -> #REF!
A19: 04 | B19: =INDIRECT(A19&"!W3") -> #REF! | C19: =INDIRECT(A19&"!H3") -> #REF! | D19: =INDIRECT(A19&"!O25") -> #REF! | E19: =INDIRECT(A19&"!O26") -> #REF! | F19: =INDIRECT(A19&"!Y5") -> #REF! | G19: =INDIRECT(A19&"!AG6") -> #REF! | H19: =INDIRECT(A19&"!AB8") -> #REF! | I19: =INDIRECT(A19&"!H8") -> #REF! | J19: =INDIRECT(A19&"!H6") -> #REF! | K19: =INDIRECT(A19&"!AF7") -> #REF! | L19: =INDIRECT(A19&"!AQ7") -> #REF! | M19: =INDIRECT(A19&"!L9") -> #REF! | N19: =INDIRECT(A19&"!Z9") -> #REF! | O19: =INDIRECT(A19&"!L10") -> #REF! | P19: =INDIRECT(A19&"!Z10") -> #REF! | Q19: =INDIRECT(A19&"!H11") -> #REF! | R19: =INDIRECT(A19&"!Z11") -> #REF! | S19: =INDIRECT(A19&"!M12") -> #REF! | T19: =INDIRECT(A19&"!AD12") -> #REF! | U19: =INDIRECT(A19&"!N16") -> #REF! | V19: =INDIRECT(A19&"!N17") -> #REF! | W19: =INDIRECT(A19&"!O18") -> #REF! | X19: =INDIRECT(A19&"!AF18") -> #REF! | Y19: =INDIRECT(A19&"!H19") -> #REF! | Z19: =INDIRECT(A19&"!M19") -> #REF! | AA19: =INDIRECT(A19&"!AK19") -> #REF! | AB19: =INDIRECT(A19&"!H20") -> #REF! | AC19: =INDIRECT(A19&"!AC20") -> #REF! | AD19: =INDIRECT(A19&"!S21") -> #REF! | AE19: =INDIRECT(A19&"!X21") -> #REF! | AF19: =INDIRECT(A19&"!AD21") -> #REF! | AG19: =INDIRECT(A19&"!AM21") -> #REF! | AH19: =INDIRECT(A19&"!M22") -> #REF! | AI19: =INDIRECT(A19&"!S22") -> #REF! | AJ19: =INDIRECT(A19&"!X22") -> #REF! | AK19: =INDIRECT(A19&"!AD22") -> #REF! | AL19: =INDIRECT(A19&"!AM22") -> #REF! | AM19: =INDIRECT(A19&"!H23") -> #REF! | AN19: =INDIRECT(A19&"!L23") -> #REF! | AO19: ="20"&INDIRECT(A19&"!T23") -> #REF! | AP19: =INDIRECT(A19&"!W23") -> #REF! | AQ19: =INDIRECT(A19&"!AE23") -> #REF! | AR19: =INDIRECT(A19&"!AG26") -> #REF! | AS19: =INDIRECT(A19&"!H35") -> #REF! | AT19: =INDIRECT(A19&"!AL35") -> #REF! | AU19: =INDIRECT(A19&"!N36") -> #REF! | AV19: =INDIRECT(A19&"!N37") -> #REF! | AW19: =INDIRECT(A19&"!N38") -> #REF! | AX19: =INDIRECT(A19&"!S38") -> #REF! | AY19: =INDIRECT(A19&"!W38") -> #REF! | AZ19: =INDIRECT(A19&"!AB38") -> #REF! | BA19: =INDIRECT(A19&"!H39") -> #REF! | BB19: =INDIRECT(A19&"!I40") -> #REF! | BC19: =INDIRECT(A19&"!I43") -> #REF! | BD19: =INDIRECT(A19&"!H44") -> #REF! | BE19: =INDIRECT(A19&"!M44") -> #REF! | BF19: =INDIRECT(A19&"!Q44") -> #REF! | BG19: =INDIRECT(A19&"!V44") -> #REF! | BH19: =INDIRECT(A19&"!L45") -> #REF! | BI19: =INDIRECT(A19&"!AE45") -> #REF! | BJ19: =INDIRECT(A19&"!AL46") -> #REF! | BK19: =INDIRECT(A19&"!H47") -> #REF! | BL19: =INDIRECT(A19&"!K49") -> #REF! | BM19: =INDIRECT(A19&"!W49") -> #REF! | BN19: =INDIRECT(A19&"!H48") -> #REF! | BO19: =INDIRECT(A19&"!H50") -> #REF!
A20: 05 | B20: =INDIRECT(A20&"!W3") -> #REF! | C20: =INDIRECT(A20&"!H3") -> #REF! | D20: =INDIRECT(A20&"!O25") -> #REF! | E20: =INDIRECT(A20&"!O26") -> #REF! | F20: =INDIRECT(A20&"!Y5") -> #REF! | G20: =INDIRECT(A20&"!AG6") -> #REF! | H20: =INDIRECT(A20&"!AB8") -> #REF! | I20: =INDIRECT(A20&"!H8") -> #REF! | J20: =INDIRECT(A20&"!H6") -> #REF! | K20: =INDIRECT(A20&"!AF7") -> #REF! | L20: =INDIRECT(A20&"!AQ7") -> #REF! | M20: =INDIRECT(A20&"!L9") -> #REF! | N20: =INDIRECT(A20&"!Z9") -> #REF! | O20: =INDIRECT(A20&"!L10") -> #REF! | P20: =INDIRECT(A20&"!Z10") -> #REF! | Q20: =INDIRECT(A20&"!H11") -> #REF! | R20: =INDIRECT(A20&"!Z11") -> #REF! | S20: =INDIRECT(A20&"!M12") -> #REF! | T20: =INDIRECT(A20&"!AD12") -> #REF! | U20: =INDIRECT(A20&"!N16") -> #REF! | V20: =INDIRECT(A20&"!N17") -> #REF! | W20: =INDIRECT(A20&"!O18") -> #REF! | X20: =INDIRECT(A20&"!AF18") -> #REF! | Y20: =INDIRECT(A20&"!H19") -> #REF! | Z20: =INDIRECT(A20&"!M19") -> #REF! | AA20: =INDIRECT(A20&"!AK19") -> #REF! | AB20: =INDIRECT(A20&"!H20") -> #REF! | AC20: =INDIRECT(A20&"!AC20") -> #REF! | AD20: =INDIRECT(A20&"!S21") -> #REF! | AE20: =INDIRECT(A20&"!X21") -> #REF! | AF20: =INDIRECT(A20&"!AD21") -> #REF! | AG20: =INDIRECT(A20&"!AM21") -> #REF! | AH20: =INDIRECT(A20&"!M22") -> #REF! | AI20: =INDIRECT(A20&"!S22") -> #REF! | AJ20: =INDIRECT(A20&"!X22") -> #REF! | AK20: =INDIRECT(A20&"!AD22") -> #REF! | AL20: =INDIRECT(A20&"!AM22") -> #REF! | AM20: =INDIRECT(A20&"!H23") -> #REF! | AN20: =INDIRECT(A20&"!L23") -> #REF! | AO20: ="20"&INDIRECT(A20&"!T23") -> #REF! | AP20: =INDIRECT(A20&"!W23") -> #REF! | AQ20: =INDIRECT(A20&"!AE23") -> #REF! | AR20: =INDIRECT(A20&"!AG26") -> #REF! | AS20: =INDIRECT(A20&"!H35") -> #REF! | AT20: =INDIRECT(A20&"!AL35") -> #REF! | AU20: =INDIRECT(A20&"!N36") -> #REF! | AV20: =INDIRECT(A20&"!N37") -> #REF! | AW20: =INDIRECT(A20&"!N38") -> #REF! | AX20: =INDIRECT(A20&"!S38") -> #REF! | AY20: =INDIRECT(A20&"!W38") -> #REF! | AZ20: =INDIRECT(A20&"!AB38") -> #REF! | BA20: =INDIRECT(A20&"!H39") -> #REF! | BB20: =INDIRECT(A20&"!I40") -> #REF! | BC20: =INDIRECT(A20&"!I43") -> #REF! | BD20: =INDIRECT(A20&"!H44") -> #REF! | BE20: =INDIRECT(A20&"!M44") -> #REF! | BF20: =INDIRECT(A20&"!Q44") -> #REF! | BG20: =INDIRECT(A20&"!V44") -> #REF! | BH20: =INDIRECT(A20&"!L45") -> #REF! | BI20: =INDIRECT(A20&"!AE45") -> #REF! | BJ20: =INDIRECT(A20&"!AL46") -> #REF! | BK20: =INDIRECT(A20&"!H47") -> #REF! | BL20: =INDIRECT(A20&"!K49") -> #REF! | BM20: =INDIRECT(A20&"!W49") -> #REF! | BN20: =INDIRECT(A20&"!H48") -> #REF! | BO20: =INDIRECT(A20&"!H50") -> #REF!

Sheet 推薦調書作成要領
B1: 推薦調書（別紙様式１）作成要領（研究留学生〔特別枠〕）
A3: １. | B3: 数字は半角、英字は半角大文字、カタカナは全角文字とする。
A5: ２. | B5: 本様式は推薦者１名に対し１シート作成すること。推薦者が複数名いる場合は、シートをコピーし、シート名を推薦順位順に「01」、「02」、「03」、「04」…とすること。
B7: 推薦調書（別紙様式１）に入力されたデータが推薦者一覧（別紙様式２）へ転記される。推薦者全員分のデータが間違いなく推薦者一覧に反映されているか確認すること。
A9: ３. | B9: 「学校番号」、「国番号」欄は、「データ（学校番号・国番号等）」シートを参照し、該当の番号を入力すること。
A11: ４. | B11: 「氏名」欄は、ローマ字大文字で申請書の記載方法順（綴りはパスポートの表記と同一とすること。）に入力し、漢字名のある場合は、その後に括弧書きで併記すること。（電子データで漢字が表記できない場合はカタカナ表記とすること。）
B13: パスポートの表記と本名が一致しない場合（パスポート上はミドルネームを省略しているような場合）には、パスポートの表記を優先すること。パスポートの表記と一致しない場合、渡日時に便宜供与が得られない場合があるので注意すること。
A15: ５. | B15: 「現住所」欄は、申請時の住所（戸籍、勤務先等は不可）を入力すること。町名、通り名、番地等は不要。
A17: ６. | B17: 「渡日前住所」欄は、渡日直前の住所を入力すること。町名、通り名、番地等は不要。現住所から変更がない場合でも必ず入力すること。渡日空港を設定する際に重要であることを留意すること。
A19: ７. | B19: 「学位論文題目」欄は、例えば修士進学予定の学部4年の者は学士論文、修士課程在学中で修士論文の題名が決まっていれば修士論文、未決定ならば学士論文というように、最新のものを入力すること。当該論文が学士論文の場合「学位の別」欄の「学士」を、修士論文の場合同欄の「修士」を選択すること。
A21: ８. | B21: 「最終学歴」欄は、最終学校の卒業・修了（見込み）期日、学校名等を入力すること。なお、記入時に在籍している場合は、括弧内に「在籍中」と記入し、修学年数合計については、全教育機関（小学校～大学・大学院）の総計年数の見込み（在籍中の学校の履修年数を含む、入学時点までの総計）とすること。
B23: 「課程における主要言語」欄は、当該課程における主要言語についてプルダウンから該当する言語（日本語、英語、又は日本語・英語以外）を選択すること。
B25: 「卒業(修了）」又は「卒業（修了）見込み」以外の場合（例：単位取得退学）、「その他」を選択し、カッコ内に適宜入力すること。
A27: ９. | B27: 「学業成績係数」欄は、＜推薦に当たっての留意事項＞にある学業成績の算出方法に従って算出した学業成績係数を入力すること。学業成績係数の算出ができない場合は、本欄は「算出不可」と入力の上、募集要項５．（３）②の「※４」に従って「推薦状」の写しを提出すること。
A29: 10. | B29: 「該当する語学能力条件番号」欄は、募集要項「１．（６）語学能力」のうち該当する条件番号をプルダウン（日本語①、日本語②、日本語③、英語①、英語②、英語③）から選択すること。なお、選択した条件番号は以下の項目等と整合する必要がある。
B31: ○「日本語①」： 推薦調書「日本語能力（資格）」の「日本語能力試験（JLPT）レベル」欄に「N2」以上のレベルが入力されている。
B33: ○「日本語②」： 推薦調書「最終学歴」の「課程における主要言語」欄で「日本語」が選択されている。
B35: ○「日本語③」： 日本語の語学能力条件①相当以上の日本語能力を有していると受入大学が判断した理由が「総合成績評価報告書【別紙様式３】」に記載されているとともに、判断の根拠となる書類が文部科学省に提出されている。 （判断理由がJLPT以外の外部試験結果がレベルN2相当以上であることによる場合は、【別紙様式３】への記載及び根拠書類提出に加えて、推薦調書「日本語能力（資格）」の「その他の資格名」欄に得点等を入力すること。）
B37: ○「英語①」： 推薦調書「英語能力（資格）」の「TOEFL」、「IELTS」又は「その他の資格名・得点／スコア等」欄に、英語におけるヨーロッパ言語共通参照枠（CEFR）のB2相当以上の資格・検定試験スコアが入力されている。
B39: ○「英語②」： 推薦調書「最終学歴」の「課程における主要言語」欄で「英語」が選択されている。
B41: ○「英語③」： 英語の語学能力条件①相当以上の英語能力を有していると受入大学が判断した理由が「総合成績評価報告書【別紙様式３】」に記載されているとともに、判断の根拠となる書類が文部科学省に提出されている。
A43: 11. | B43: 「日本語能力（資格）」及び「英語能力（資格）」欄のうち該当しない箇所には「－」を入力すること。空欄としないこと。「TOEFL」の「その他種別」欄には「種別」と「得点」を記載すること。
A45: 12. | B45: 「希望奨学金支給期間」欄の開始月は、特別プログラム申請時に選択した「4月」、「9月」又は「10月」を入力すること。終了月は、開始月から当該課程の標準修業年限までの期間を入力すること。博士課程（5年一貫制）として採択されたプログラムについては、5年間（60ヶ月間）ではなく修士課程として取り扱う期間分（2年間：24ヶ月間）を入力すること。
A47: 13. | B47: 「留学希望期間」欄は、最終的な留学予定期間を入力すること。進学に伴う奨学金支給期間の延長申請を予定している場合はその期間も含めて入力すること。
A49: 14. | B49: 「在籍身分等」欄は、入学予定の在籍身分が修士（博士前期課程）の場合は「修1」、専門職学位課程の場合は「専1」、博士（博士後期課程）課程の場合は「博1」を選択すること。
A51: 15. | B51: 「推薦理由」欄は、今回推薦に至った理由を、簡潔にまとめて欄におさまるよう入力すること。（別紙は添付しないこと。）
A53: 16. | B53: 「推薦区分」欄は、該当するものを選択すること。
A55: 17. | B55: 「外為法確認」欄は、大学として、当該者の研究内容が外為法及び関係法令に抵触しないものであることを確認し「○」を選択すること。研究分野を問わず「○」を選択した上で提出すること。付されていないものは審査対象としない。
A57: 18. | B57: 「最新の職歴」欄は、最新の勤務先、役職名及び勤務期間（就職年月～離職年月）を入力すること。勤務先、役職名は可能であれば日本語で入力すること。在職中の場合は「20xx年x月～現在」（離職年月の方の「年」欄でプルダウンから「現在」を選択）と入力すること。職歴がない場合は、「勤務先」欄に「なし」と入力すること。
A59: 19. | B59: 「日本滞在経験」欄は、過去に日本に滞在していたことがある場合、新しい順に上から選択・入力すること。なお、旅行は含まない。
A61: 20. | B61: 「国費留学の経験」欄は、過去に国費留学生（日韓共同理工系学部留学生含む。）であった場合は、その期間、在籍学校名及び国費留学生のプログラム名を選択・入力すること。なお、日本語・日本文化研修留学生、日韓共同理工系学部留学生、ヤング・リーダーズ・プログラム留学生以外の場合は、前回の受給終了から本奨学金の支給開始までに通算3年以上の学業又は職務経歴があるかも入力すること。
A63: 21. | B63: 「文部科学省への推薦」欄は、文部科学省への推薦前に、学内選考の結果「2021年度奨学金支給開始」の「日本政府（文部科学省）奨学金制度のプログラム」に推薦予定であること及び文部科学省へ重複推薦された場合は全ての大学において国費外国人留学生に採用されないことを候補者に通知し、当該大学から推薦される意思があるかメールや書面等記録の残る形で確認し、「通知及び意思確認済み」を選択した上で提出すること。付されていないものは審査対象としない。
A65: 22. | B65: 「査証申請予定の国籍国在外公館」欄は、国籍国の在外公館（国籍国に在外公館が無い場合は兼館）にて国費外国人留学生として査証申請を行うため文部科学省から在外公館への査証申請便宜供与が必要な場合は「在外公館」を選択し、国籍国以外の大使館又は領事館にて査証申請を行う場合は「便宜供与不要」を選択すること。
B67: １か国に複数の在外公館がある場合、外務省ホームページにて直轄地域を確認し、正しい在外公館を選択すること。 選択肢について 「大」･･･大使館 「総」･･･総領事館 「事」･･･領事事務所（カッコ内は親公館名） 【在外公館一覧】 http://www.mofa.go.jp/mofaj/link/zaigai/index.html 【領事館の管轄区域一覧】 https://www.mofa.go.jp/mofaj/annai/zaigai/list/index.html 【兼轄国について】 http://www.mofa.go.jp/mofaj/files/000047796.pdf
B69: ※「在外公館」を選択した者についてのみ、文部科学省は国籍国の在外公館へ査証発給の便宜供与を行う。便宜供与を行う者について、大学は在留資格認定証明書の発給申請の手続きは行わないこと。
B71: ※「便宜供与不要」の者について、大学は在留資格認定証明書発給申請等、責任をもって渡日手続きを行う必要がある。（私費外国人留学生と同様の手続き）
A73: 23. | B73: 「出発国・都市名（空港所在地名）」欄は当該者が渡日時に使用する現地国際空港（原則国籍国）がある都市名を記載すること。文部科学省が交付する渡日航空券は、募集要項に記載の通り、「居住地最寄りの国際空港（原則国籍国内）」から受入大学が通常の経路として日本国内で使用する国際空港までの区間となることに留意すること。やむを得ない事情により国籍外の空港からの出発を希望する場合は、備考欄に理由を入力すること（内紛による空港閉鎖等）。
B75: なお、自己都合により国籍国外の空港から出発する場合、文部科学省は渡日航空券を交付しないため、備考欄に「旅費辞退」と入力すること。

Sheet 推薦調書作成例
A1: 2021年度国費外国人留学生（研究留学生〔特別枠〕）推薦調書(別紙様式１）
A3: 大学名 | H3: ■■大学 | S3: 学校番号 | W3: 999999
A5: 申請区分 | H5: 特別枠 | Q5: プログラム番号 | Y5: 99999 | AF5: 区分中推薦順位
A6: 氏名 | H6: MONBU KAGAKU | AF6: 第 | AG6: 2 | AI6: 位/ | AK6: 3 | AM6: 人中
A7: 生年月日 | H7: 1986 | N7: 年 | O7: 5 | R7: 月 | S7: 1 | V7: 日 | W7: （ | X7: =IFERROR(IF($AQ$7="","",DATEDIF($AQ$7,$AP$7,"Y")),"") -> 34 | AA7: 才） | AC7: 性別 | AF7: M | AP7: 44287 | AQ7: =IF($S$7="","",H7&"/"&O7&"/"&S7) -> 1986/5/1
A8: 国籍 | H8: インド | W8: 国番号 | AB8: 101
A9: 現住所 | H9: 都市名（又は州・県） | L9: New Delhi | W9: 国名 | Z9: インド | AG9: 国番号 | AJ9: 101
A10: 渡日前住所 | H10: 都市名（又は州・県） | L10: New Delhi | W10: 国名 | Z10: インド | AG10: 国番号 | AJ10: 101
A11: 電話番号 | H11: 000-000-0000 | U11: E-mail | Z11: xx@xx.xx.xx
A12: 研究分野・専攻分野（日本語で記入） | H12: 研究分野 （ | M12: 社会科学 | X12: ） | Y12: 専攻分野 （ | AD12: 国際経済学 | AO12: ）
H13: 特に | J13: ○○と××における△△ | AK13: に関する研究
A14: 学位論文題目 | H14: 学位の別 | L14: 論文 題目 | O14: ○○における考察
H15: 博士
A16: （入学時点での） 最終学歴 | H16: 大学名 | N16: ○○大学
H17: 学部・研究科名 | N17: ○○研究科
H18: 課程 | N18: （ | O18: 修士 | V18: ） | W18: 課程における主要言語 | AE18: （ | AF18: 英語 | AO18: ）
H19: 2021 | L19: 年 | M19: 3 | O19: 月 | P19: 卒業（修了） | V19: ( | AE19: ) | AF19: 修学年数合計 | AK19: 18 | AO19: 年
A20: 学業成績係数 | H20: 2.8 | R20: 該当する語学能力条件番号 | AC20: 英語①
A21: 日本語能力（資格） | H21: 日本語能力試験（JLPT） | P21: レベル | S21: N2 | U21: 総合得点 | X21: 160 | Z21: その他の資格名 | AD21: ― | AJ21: 得点／スコア等 | AM21: ―
A22: 英語能力（資格） | H22: TOEFL | K22: iBT | M22: 100 | O22: その他種別 | S22: ITP550 | V22: IELTS | X22: 7.5 | Z22: その他の資格名 | AD22: ― | AJ22: 得点／スコア等 | AM22: ―
A23: 希望奨学金支給期間 | H23: 2021 | K23: 年 | L23: 10 | O23: 月から | R23: 20 | T23: 24 | V23: 年 | W23: 9 | Z23: 月まで | AE23: =IF(W23="","",DATEDIF(DATE("2021",L23,1),IF(W23="12",DATE(T23+2001,1,1),DATE(T23+2000,W23+1,1)),"M")) -> 36 | AI23: ヶ月間 | AP23: =IF(L23="","",H23&"."&L23) -> 2021.10
A24: 留学希望期間 | H24: 2021 | K24: 年 | L24: 10 | O24: 月から | R24: 20 | T24: 24 | V24: 年 | W24: 9 | Z24: 月まで | AE24: =IF(W24="","",DATEDIF(DATE("2021",L24,1),IF(W24="12",DATE(T24+2001,1,1),DATE(T24+2000,W24+1,1)),"M")) -> 36 | AI24: ヶ月間 | AP24: =IF(T23="","",R23&T23&"."&W23) -> 2024.9
A25: 受入れ予定研究科 | H25: 研究科名 | O25: 経済学研究科
H26: 指導教員名 | O26: 文科 太郎 | Z26: 在籍身分 | AG26: 博１
A27: 推薦理由 | H27: ○○○○○…
A35: 推薦区分 | H35: ① 大学間交流協定に基づく推薦 | T35: 外為法確認(確認の上「○」を選択すること） | AL35: ○
A36: 最新の職歴 | H36: 勤務先名 | N36: ○○○○研究所
H37: 役職名 | N37: 研究員
H38: 勤務期間 | N38: 2014 | R38: 年 | S38: 4 | U38: 月 | V38: ～ | W38: 2016 | AA38: 年 | AB38: 10 | AD38: 月
A39: 他の奨学金の応募・受給状況 | H39: なし
A40: 日本滞在経験がある場合、その期間等 | H40: （ | I40: 有 | M40: ） | N40: （有の場合は、その期間、目的を記入。旅行は含まない）
H41: 2010 | L41: 年 | M41: 10 | O41: 月 | P41: ～ | Q41: 2013 | U41: 年 | V41: 9 | X41: 月 | Y41: (目的： | AB41: ××大学留学 | AO41: )
H42: ― | L42: 年 | M42: ― | O42: 月 | P42: ～ | Q42: ― | U42: 年 | V42: ― | X42: 月 | Y42: (目的： | AB42: ― | AO42: )
A43: 国費留学の経験 | H43: （ | I43: 有 | M43: ） | N43: （有の場合は、その期間、在籍学校名、プログラム名、3年間の学業又は職務経歴の有無を入力）
H44: 2010 | L44: 年 | M44: 10 | O44: 月 | P44: ～ | Q44: 2013 | U44: 年 | V44: 9 | X44: 月
H45: 学校名 | L45: ××大学 | AB45: プログラム名 | AE45: 研究留学生
H46: 前回の受給終了から本奨学金支給開始までに通算3年間の学業又は職務経歴があるか。 ※日本語・日本文化研修留学生、日韓共同理工系学部留学生、ヤング・リーダーズ・プログラム留学生は除く | AL46: 有
A47: 文部科学省への推薦 | H47: 通知及び意思確認済み
A48: 査証申請予定の 国籍国在外公館 | H48: インド大
A49: 出発国・都市名 （空港所在地名） | H49: 都市名 | K49: Delhi | T49: 国名 | W49: インド | AF49: 国番号 | AI49: 101
...

Sheet 提出前チェックシート
A1: 2021年度国費外国人留学生 大学推薦（研究留学生〔特別枠〕）
A2: 申請書類提出前チェックシート
A4: ○申請書類提出前に以下の項目について以下の要件が備わっているかもう一度ご確認ください。
A5: ○推薦者一覧に対してオートフィルタ機能を用いると要件の確認が容易にできます。
A7: 事項 | B7: ✔ | C7: 確認する内容
A8: 全体 | B8: □ | C8: 全ての項目について入力漏れ（空欄）がないか。
B9: □ | C9: 推薦調書の内容が推薦者一覧に適切にリンク表示されているか。
B10: □ | C10: 指定された文字で入力しているか。(数字は半角など）
A11: 希望奨学金支給期間 | B11: □ | C11: 開始月は特別プログラム申請時に選択した「4月」、「9月」又は「10月」と一致しているか。終了月は、開始月から当該課程の標準修業年限までの期間が適切に入力されているか。
A12: 在籍年次 | B12: □ | C12: 特別枠：修１・専１・博１以外になっていないか（「研究」は不可）。
A13: 語学能力条件 | B13: □ | C13: 選択した語学能力条件番号に対応して、必要な項目が入力又は必要書類が提出されているか。
A14: 学業成績係数 | B14: □ | C14: 3.00を超過していないか。
B15: □ | C15: 2.30未満になっていないか。
B16: □ | C16: 学業成績を算出できない場合、算出できない理由等が「総合成績評価報告書【別紙様式３】」に記載されているか。また、学業成績係数が2.30以上に相当すると判断した根拠として、大学若しくは学部、又は大学院若しくは研究科での成績順位が上位30％以内であるとみなされることが明記されている「サ 所属大学等の研究科長レベル以上の推薦状（受入れ予定大学長あてのもの）」の写しを文部科学省に提出しているか。
A17: 外為法の確認 | B17: □ | C17: 確認したか。○印が付されているか。
A18: 出発都市名（空港所在地名） | B18: □ | C18: 国籍と違う国を入力していないか。
C19: ※やむを得ない事情により国籍外の空港を利用する場合は、備考欄に理由を入力すること（内紛による空港閉鎖等）。 なお、自己都合により国籍国外の空港を利用する場合は、文部科学省からは旅費は支給されない。
A20: 国費留学の経験 | B20: □ | C20: 経験「有」の場合、期間、在籍学校、プログラム名が入力されているか。また、日本語・日本文化研修留学生、日韓共同理工系学部留学生、ヤング・リーダーズプログラム留学生以外の場合は、前回の受給終了から本奨学金の受給開始までに通算３年以上の学業又は職務経歴があるか。
A21: 推薦人数 | B21: □ | C21: 優先配置枠数を超過していないか。（2021年度進学に伴う奨学金支給期間の延長申請（特別枠）で使用した枠がある場合は、その使用枠を差し引いた枠数を超えていないか。）

Sheet データ（学校番号・国番号等）
A1: 学校番号 | B1: 大学名 | C1: 申請区分 | D1: 性別 | E1: 国番号 | F1: 国名 | G1: 研究分野 | H1: 学位の別 | I1: 最終学歴 | J1: 評価 | K1: 在籍身分等 | L1: 推薦区分 | M1: マルバツ | N1: 有無 | O1: 国費区分 | P1: 年（西暦） | Q1: 年（下2桁） | R1: 月 | S1: 日 | T1: JLPT レベル | U1: 文部科学省への推薦 | V1: 査証申請予定の 国籍国在外公館 | W1: 旅費負担（一般枠のみ） | X1: 教育課程における主要言語 | Y1: 該当する語学能力条件番号 | Z1: 年（西暦）
A2: 101001 | B2: 小樽商科大学 | C2: 特別枠 | D2: M | E2: 101 | F2: インド | G2: 情報学 | H2: 学士 | I2: 卒業（修了） | J2: 優 | K2: 修１ | L2: ① 大学間交流協定に基づく推薦 | M2: ○ | N2: 有 | O2: 研究留学生 | P2: ― | Q2: ― | R2: ― | S2: ― | T2: ― | U2: 通知及び意思確認済み | V2: 便宜供与不要 | W2: 文科省負担 | X2: 日本語 | Y2: 日本語① | Z2: ―
A3: 101002 | B3: 帯広畜産大学 | D3: F | E3: 102 | F3: ブータン | G3: 環境学 | H3: 修士 | I3: 卒業（修了）見込み | J3: 良 | K3: 専１ | L3: ② 交流実績に基づく推薦 | M3: × | N3: 無 | O3: 学部留学生 | P3: 1970 | Q3: 18 | R3: 1 | S3: 1 | T3: N1 | V3: <アジア地域> | W3: 大学負担 | X3: 英語 | Y3: 日本語② | Z3: 1970
A4: 101003 | B4: 北海道大学 | E4: 103 | F4: インドネシア | G4: 複合新領域 | H4: 博士 | I4: その他 | J4: 可 | K4: 博１ | L4: ③ ①、②以外の推薦 | O4: 高等専門学校留学生 | P4: 1971 | Q4: 19 | R4: 2 | S4: 2 | T4: N2 | V4: インド大 | X4: 日本語・英語以外 | Y4: 日本語③ | Z4: 1971
A5: 101004 | B5: 北海道教育大学 | E5: 104 | F5: カンボジア | G5: 総合人文社会 | J5: 不可 | O5: 専修学校留学生 | P5: 1972 | Q5: 20 | R5: 3 | S5: 3 | T5: N3 | V5: コルカタ総 | Y5: 英語① | Z5: 1972
A6: 101005 | B6: 室蘭工業大学 | E6: 105 | F6: シンガポール | G6: 人文学 | O6: 日本語・日本文化研修留学生 | P6: 1973 | Q6: 21 | R6: 4 | S6: 4 | T6: N4 | V6: チェンナイ総 | Y6: 英語② | Z6: 1973
A7: 101006 | B7: 北見工業大学 | E7: 106 | F7: スリランカ | G7: 社会科学 | O7: 教員研修留学生 | P7: 1974 | Q7: 22 | R7: 5 | S7: 5 | T7: N5 | V7: ベンガルール総 | Y7: 英語③ | Z7: 1974
A8: 101007 | B8: 旭川医科大学 | E8: 107 | F8: タイ | G8: 総合理工 | O8: 日韓共同理工系学部留学生 | P8: 1975 | Q8: 23 | R8: 6 | S8: 6 | V8: ムンバイ総 | Z8: 1975
A9: 102001 | B9: 弘前大学 | E9: 108 | F9: 大韓民国 | G9: 数物系科学 | O9: ヤング・リーダーズ・プログラム | P9: 1976 | Q9: 24 | R9: 7 | S9: 7 | V9: インドネシア大 | Z9: 1976
A10: 102002 | B10: 岩手大学 | E10: 109-1 | F10: 中国 | G10: 化学 | P10: 1977 | Q10: 25 | R10: 8 | S10: 8 | V10: スラバヤ総 | Z10: 1977
A11: 102003 | B11: 東北大学 | E11: 109-2 | F11: 中国（香港） | G11: 工学 | P11: 1978 | Q11: 26 | R11: 9 | S11: 9 | V11: マカッサル事 (ｽﾗﾊﾞﾔ総) | Z11: 1978
A12: 102004 | B12: 秋田大学 | E12: 109-3 | F12: 中国（マカオ） | G12: 総合生物 | P12: 1979 | Q12: 27 | R12: 10 | S12: 10 | V12: デンパサール総 | Z12: 1979
A13: 102005 | B13: 山形大学 | E13: 110 | F13: ネパール | G13: 生物学 | P13: 1980 | Q13: 28 | R13: 11 | S13: 11 | V13: メダン総 | Z13: 1980
A14: 102006 | B14: 福島大学 | E14: 111 | F14: パキスタン | G14: 農学 | P14: 1981 | Q14: 29 | R14: 12 | S14: 12 | V14: カンボジア大 | Z14: 1981
A15: 102007 | B15: 宮城教育大学 | E15: 112 | F15: バングラデシュ | G15: 医歯薬学 | P15: 1982 | Q15: 30 | S15: 13 | V15: シンガポール大 | Z15: 1982
A16: 103001 | B16: 茨城大学 | E16: 113 | F16: 東ティモール | P16: 1983 | S16: 14 | V16: スリランカ大 | Z16: 1983
A17: 103002 | B17: 宇都宮大学 | E17: 114 | F17: フィリピン | P17: 1984 | S17: 15 | V17: タイ大 | Z17: 1984
A18: 103003 | B18: 群馬大学 | E18: 115 | F18: ブルネイ | P18: 1985 | S18: 16 | V18: チェンマイ総 | Z18: 1985
A19: 103004 | B19: 埼玉大学 | E19: 116 | F19: ベトナム | P19: 1986 | S19: 17 | V19: 韓国大 | Z19: 1986
A20: 103005 | B20: 千葉大学 | E20: 117 | F20: マレーシア | P20: 1987 | S20: 18 | V20: 済州総 | Z20: 1987
A21: 103006 | B21: 横浜国立大学 | E21: 118 | F21: ミャンマー | P21: 1988 | S21: 19 | V21: 釜山総 | Z21: 1988
A22: 103007 | B22: 山梨大学 | E22: 119 | F22: モルディブ | P22: 1989 | S22: 20 | V22: 中国大 | Z22: 1989
A23: 103008 | B23: 信州大学 | E23: 120 | F23: モンゴル | P23: 1990 | S23: 21 | V23: 広州総 | Z23: 1990
A24: 103009 | B24: 新潟大学 | E24: 121 | F24: ラオス | P24: 1991 | S24: 22 | V24: 上海総 | Z24: 1991
A25: 103010 | B25: 筑波大学 | E25: 190 | F25: その他（アジア地域） | P25: 1992 | S25: 23 | V25: 重慶総 | Z25: 1992
A26: 103011 | B26: 長岡技術科学大学 | E26: 201 | F26: オーストラリア | P26: 1993 | S26: 24 | V26: 瀋陽総 | Z26: 1993
A27: 103014 | B27: 上越教育大学 | E27: 202 | F27: サモア | P27: 1994 | S27: 25 | V27: 大連事 （瀋陽総） | Z27: 1994
... A33: 104004 | B33: 東京医科歯科大学 | E33: 208 | F33: バヌアツ | P33: 2000 | S33: 31 | V33: ﾊﾞﾝｸﾞﾗﾃﾞｼｭ大 | Z33: 2000
A34: 104005 | B34: 東京外国語大学 | E34: 209 | F34: パプアニューギニア | P34: 2001 | V34: 東ティモール大 | Z34: 2001
A35: 104006 | B35: 東京学芸大学 | E35: 210 | F35: パラオ | P35: 2002 | V35: フィリピン大 | Z35: 2002
A36: 104008 | B36: 東京芸術大学 | E36: 211 | F36: フィジー | P36: 2003 | V36: セブ事 (ﾌｨﾘﾋﾟﾝ大） | Z36: 2003
A37: 104009 | B37: 東京工業大学 | E37: 212 | F37: キリバス | P37: 2004 | V37: ダバオ事 （ﾌｨﾘﾋﾟﾝ大） | Z37: 2004
A38: 104012 | B38: 東京農工大学 | E38: 213 | F38: ツバル | P38: 2005 | V38: ブルネイ大 | Z38: 2005
A39: 104013 | B39: 一橋大学 | E39: 214 | F39: ナウル | P39: 2006 | V39: ベトナム大 | Z39: 2006
A40: 104014 | B40: 政策研究大学院大学 | E40: 215 | F40: マーシャル | P40: 2007 | V40: ホーチミン総 | Z40: 2007
A41: 104015 | B41: 東京海洋大学 | E41: 216 | F41: ミクロネシア | P41: 2008 | V41: マレーシア大 | Z41: 2008
A42: 105001 | B42: 富山大学 | E42: 290 | F42: その他（大洋州地域） | P42: 2009 | V42: コタキナバル事 (ﾏﾚｰｼｱ大） | Z42: 2009
A43: 105002 | B43: 金沢大学 | E43: 301 | F43: 米国 | P43: 2010 | V43: ペナン総 | Z43: 2010
A44: 105003 | B44: 福井大学 | E44: 302 | F44: カナダ | P44: 2011 | V44: ミャンマー大 | Z44: 2011
A45: 105004 | B45: 岐阜大学 | E45: 390 | F45: その他（北米地域） | P45: 2012 | V45: モルディブ大 | Z45: 2012
...
