Workbook

Sheet 【学生記入用】願書(様式1)
X1: （様式1）
A2: 令和4年(2022年)度JEES日本語教育普及奨学金 願書
S3: 令和 | U3: 4 | V3: 年 | X3: 月 | Z3: 日
A4: 公益財団法人 日本国際教育支援協会 理事長 殿
A6: 私は、本奨学金の募集・推薦要項の全記載内容に同意・了承の上、令和4年(2022年)度JEES日本語教育普及奨学金の奨学生として採用願いたく、願書の記載事項に相違ありませんので、ここに申請いたします。また、募集・推薦要項14(2)①から③及び⑤の目的で、願書の記載事項を寄付者に開示・提供することに同意します。なお、奨学生として採用された場合は、他の奨学金を受給することを目的として、本奨学金を辞退することはいたしません。
A7: 記
A9: 氏 名 | V9: 写真 データを貼り付けること （50KB以下）
A10: ﾌﾘｶﾞﾅ （半角）
A11: 漢字
A12: ローマ字 （大文字）
A13: 学籍状況（令和4年10月1日時点）
A14: 学校名 | I14: 学部・研究科 | R14: 学科・専攻
A16: ★選択してください | K16: 年 | L16: ( | O16: 年 | Q16: 月入学、 | V16: 年 | X16: 月卒業予定)
A17: 国籍・ 地域 | I17: 日本語教員養成課程履修の有無 | R17: ★選択してください
A18: 生年月日 | Q18: 性別
D19: 年 | F19: 月 | H19: 日 | I19: （令和4年10月1日時点で | P19: 歳）
A21: ●学歴・職歴（高等学校卒業以降）
A22: 学歴 職歴 | C22: 学校名または勤務先（所在地） | L22: 専攻分野・職務内容・地位 | U22: 在学・勤務期間
A23: 学歴 | C23: （高等学校名） | W23: 年 | Y23: 月 | Z23: まで
W25: 年 | Y25: 月 | Z25: から
W26: 年 | Y26: 月 | Z26: まで
W27: 年 | Y27: 月 | Z27: から
W28: 年 | Y28: 月 | Z28: まで
W29: 年 | Y29: 月 | Z29: から
W30: 年 | Y30: 月 | Z30: まで
A32: ●応募者の経済状況(令和4年度見込み)
A33: 収入内訳(全て平均月額を記入すること) ※留学生の場合、本国の家庭の収入、日本国外にいる配偶者の収入等、生計を一にする別居者の収入は含まない | N33: 支出内訳(全て平均月額を記入すること)
A34: ① 仕送り額 | M34: 円 | N34: ⑧ 学費 | Z34: 円
A35: ② 生計を一にする 同居者の収入 | M35: 円 | N35: ⑨ 教材費 | Z35: 円
A36: ③ アルバイト収入、 RA・TAの給与等 | M36: 円 | N36: ⑩ 住居費 | Z36: 円
A37: ④ 特別研究員 研究奨励金 | M37: 円 | N37: ⑪ 生活費 | Z37: 円
A38: ⑤ 高等教育の修学支援 新制度・給付型奨学金 | M38: 円 | N38: ⑫ その他 | Z38: 円
A39: ⑥ 併給奨学金 （申請中を除く） | M39: 円 | N39: 小計 | U39: =SUM(U34:Y38) -> 0 | Z39: 円 | AC39: グレーの部分は入力不要です(自動で計算します)
A40: ⑦ その他 （借入金、貯金の取崩し等） | M40: 円 | N40: ⑬ 授業料免除額 | Z40: 円
A41: 合計 | H41: =SUM(H34:L40) -> 0 | M41: 円 | N41: 合計 ※小計-授業料免除額 | U41: =U39-U40 -> 0 | Z41: 円
A42: 収入―支出 | H42: =H41-U41 -> 0 | Z42: 円 | AA42: =IF(H42<0,"支出が収入を上回らないように修正してください！","")
A44: ●他の奨学金受給・申請状況 ※一時金も含む。令和4年度に受給（予定を含む）する奨学金のみ記入すること。
A45: 貸与型 給付型 | C45: 奨学金名 | I45: 支給団体名 | N45: 月額 | R45: 受給期間 | X45: 状況
Q46: 円 | T46: 年 | V46: 月 | W46: から
T47: 年 | V47: 月 | W47: まで
...

Sheet 【記入例】願書(様式1)
X1: （様式1）
A2: 令和4年(2022年)度JEES日本語教育普及奨学金 願書
S3: 令和 | U3: 4 | V3: 年 | W3: 4 | X3: 月 | Y3: 1 | Z3: 日
A4: 公益財団法人 日本国際教育支援協会 理事長 殿
A6: 私は、本奨学金の募集・推薦要項の全記載内容に同意・了承の上、令和4年(2022年)度JEES日本語教育普及奨学金の奨学生として採用願いたく、願書の記載事項に相違ありませんので、ここに申請いたします。また、募集・推薦要項14(2)①から③及び⑤の目的で、願書の記載事項を寄付者に開示・提供することに同意します。なお、奨学生として採用された場合は、他の奨学金を受給することを目的として、本奨学金を辞退することはいたしません。
A7: 記
A9: 氏 名 | V9: 写真 データを貼り付けること （50KB以下）
A10: ﾌﾘｶﾞﾅ （半角） | D10: ｷｮｳｶｲ ﾊﾅｺ
A11: 漢字 | D11: 協会 花子
A12: ローマ字 （大文字） | D12: KYOKAI HANAKO
A13: 学籍状況（令和4年10月1日時点）
A14: 学校名 | I14: 研究科 | R14: 専攻
A15: ○○大学 | I15: 文学研究科 | R15: 日本語学専攻
A16: 修士（博士前期）課程 | I16: 1 | K16: 年 | L16: ( | M16: 2022 | O16: 年 | P16: 4 | Q16: 月入学、 | T16: 2024 | V16: 年 | W16: 3 | X16: 月卒業予定)
A17: 国籍・ 地域 | C17: 日本 | I17: 日本語教員養成課程履修の有無 | R17: 有り(主専攻)
A18: 生年月日 | Q18: 性別
A19: 1990 | D19: 年 | E19: 1 | F19: 月 | G19: 1 | H19: 日 | I19: （令和4年10月1日時点で | O19: 32 | P19: 歳） | Q19: 女
A21: ●学歴・職歴（高等学校卒業以降）
A22: 学歴 職歴 | C22: 学校名または勤務先（所在地） | L22: 専攻分野・職務内容・地位 | U22: 在学・勤務期間
A23: 学歴 | C23: （高等学校名） | L23: 普通科 | U23: 2009 | W23: 年 | X23: 3 | Y23: 月 | Z23: まで
C24: ○○高等学校(東京)
A25: 学歴 | C25: ○○大学(大阪) | L25: 文学部日本文学科 | U25: 2009 | W25: 年 | X25: 4 | Y25: 月 | Z25: から
U26: 2013 | W26: 年 | X26: 3 | Y26: 月 | Z26: まで
A27: 職歴 | C27: ○○日本語学校(北海道) | L27: 非常勤講師 | U27: 2013 | W27: 年 | X27: 4 | Y27: 月 | Z27: から
W28: 年 | Y28: 月 | Z28: まで
W29: 年 | Y29: 月 | Z29: から
W30: 年 | Y30: 月 | Z30: まで
A32: ●応募者の経済状況(令和4年度見込み)
A33: 収入内訳(全て平均月額を記入すること) ※留学生の場合、本国の家庭の収入、日本国外にいる配偶者の収入等、生計を一にする別居者の収入は含まない | N33: 支出内訳(全て平均月額を記入すること)
A34: ① 仕送り額 | H34: 50000 | M34: 円 | N34: ⑧ 学費 | U34: 80000 | Z34: 円
A35: ② 生計を一にする 同居者の収入 | H35: 0 | M35: 円 | N35: ⑨ 教材費 | U35: 10000 | Z35: 円
A36: ③ アルバイト収入、 RA・TAの給与等 | H36: 100000 | M36: 円 | N36: ⑩ 住居費 | U36: 70000 | Z36: 円
A37: ④ 特別研究員 研究奨励金 | H37: 0 | M37: 円 | N37: ⑪ 生活費 | U37: 50000 | Z37: 円
A38: ⑤ 高等教育の修学支援 新制度・給付型奨学金 | H38: 0 | M38: 円 | N38: ⑫ その他 | U38: 0 | Z38: 円
A39: ⑥ 併給奨学金 （申請中を除く） | H39: 0 | M39: 円 | N39: 小計 | U39: =SUM(U34:Y38) -> 210000 | Z39: 円 | AC39: グレーの部分は入力不要です(自動で計算します)
A40: ⑦ その他 （借入金、貯金の取崩し等） | H40: 70000 | M40: 円 | N40: ⑬ 授業料免除額 | U40: 10000 | Z40: 円
A41: 合計 | H41: =SUM(H34:L40) -> 220000 | M41: 円 | N41: 合計 ※小計-授業料免除額 | U41: =U39-U40 -> 200000 | Z41: 円
A42: 収入―支出 | H42: =H41-U41 -> 20000 | Z42: 円
A44: ●他の奨学金受給・申請状況 ※一時金も含む。令和4年度に受給（予定を含む）する奨学金のみ記入すること。
A45: 貸与型 給付型 | C45: 奨学金名 | I45: 支給団体名 | N45: 月額 | R45: 受給期間 | X45: 状況
...

Sheet 一覧（縦）
A1: カナ氏名 | B1: ='【学生記入用】願書(様式1)'!D10 -> 0
A2: ローマ字氏名 | B2: ='【学生記入用】願書(様式1)'!D12 -> 0
A3: 漢字氏名 | B3: ='【学生記入用】願書(様式1)'!D11 -> 0
A4: 学校名 | B4: ='【学生記入用】願書(様式1)'!A15 -> 0
A5: 学部・研究科 | B5: ='【学生記入用】願書(様式1)'!I15 -> 0
A6: 専攻 | B6: ='【学生記入用】願書(様式1)'!R15 -> 0
A7: 在籍課程 | B7: ='【学生記入用】願書(様式1)'!A16 -> ★選択してください
A8: 学年 | B8: ='【学生記入用】願書(様式1)'!I16 -> 0
A9: 入学年月 | B9: ='【学生記入用】願書(様式1)'!M16&"/"&'【学生記入用】願書(様式1)'!P16 -> /
A10: 卒業年月 | B10: ='【学生記入用】願書(様式1)'!T16&"/"&'【学生記入用】願書(様式1)'!W16 -> /
A11: 国籍 | B11: ='【学生記入用】願書(様式1)'!C17 -> 0
A12: 生年月日 | B12: ='【学生記入用】願書(様式1)'!A19&"/"&'【学生記入用】願書(様式1)'!E19&"/"&'【学生記入用】願書(様式1)'!G19 -> //
A13: 年齢 | B13: =DATEDIF(B12,C13,"Y") -> #VALUE! | C13: 44652
A14: 性別 | B14: ='[1]【学生記入用】願書(様式1)'!Q19 -> 0
A15: 併給奨学金①（名称） | B15: ='【学生記入用】願書(様式1)'!C46 -> 0
A16: 併給奨学金①（支給団体） | B16: ='【学生記入用】願書(様式1)'!I46 -> 0
A17: 併給奨学金①（月額） | B17: ='【学生記入用】願書(様式1)'!N46 -> 0
A18: 併給奨学金①（受給開始年月） | B18: ='【学生記入用】願書(様式1)'!R46&"/"&'【学生記入用】願書(様式1)'!U46 -> /
A19: 併給奨学金①（受給終了年月） | B19: ='【学生記入用】願書(様式1)'!R47&"/"&'【学生記入用】願書(様式1)'!U47 -> /
A20: 併給奨学金①（状況） | B20: ='【学生記入用】願書(様式1)'!X46 -> 0
A21: 併給奨学金②（名称） | B21: ='【学生記入用】願書(様式1)'!C48 -> 0
A22: 併給奨学金②（支給団体） | B22: ='【学生記入用】願書(様式1)'!I48 -> 0
A23: 併給奨学金②（月額） | B23: ='【学生記入用】願書(様式1)'!N48 -> 0
A24: 併給奨学金②（受給開始年月） | B24: ='【学生記入用】願書(様式1)'!R48&"/"&'【学生記入用】願書(様式1)'!U48 -> /
A25: 併給奨学金②（受給終了年月） | B25: ='【学生記入用】願書(様式1)'!R49&"/"&'【学生記入用】願書(様式1)'!U49 -> /
A26: 併給奨学金②（状況） | B26: ='【学生記入用】願書(様式1)'!X48 -> 0
A27: 併給奨学金③（名称） | B27: ='【学生記入用】願書(様式1)'!C50 -> 0
A28: 併給奨学金③（支給団体） | B28: ='【学生記入用】願書(様式1)'!I50 -> 0
A29: 併給奨学金③（月額） | B29: ='【学生記入用】願書(様式1)'!N50 -> 0
A30: 併給奨学金③（受給開始年月） | B30: ='【学生記入用】願書(様式1)'!R50&"/"&'【学生記入用】願書(様式1)'!U50 -> /
A31: 併給奨学金③（受給終了年月） | B31: ='【学生記入用】願書(様式1)'!R51&"/"&'【学生記入用】願書(様式1)'!U51 -> /
A32: 併給奨学金③（状況） | B32: ='【学生記入用】願書(様式1)'!X50 -> 0
A33: 学習・研究計画（概要・テーマ） | B33: ='【学生記入用】願書(様式1)'!G54 -> 0

Sheet 一覧（横）
A1: {=TRANSPOSE('一覧（縦）'!A1:B33)} -> カナ氏名 | B1: ローマ字氏名 | C1: 漢字氏名 | D1: 学校名 | E1: 学部・研究科 | F1: 専攻 | G1: 在籍課程 | H1: 学年 | I1: 入学年月 | J1: 卒業年月 | K1: 国籍 | L1: 生年月日 | M1: 年齢 | N1: 性別 | O1: 併給奨学金①（名称） | P1: 併給奨学金①（支給団体） | Q1: 併給奨学金①（月額） | R1: 併給奨学金①（受給開始年月） | S1: 併給奨学金①（受給終了年月） | T1: 併給奨学金①（状況） | U1: 併給奨学金②（名称） | V1: 併給奨学金②（支給団体） | W1: 併給奨学金②（月額） | X1: 併給奨学金②（受給開始年月） | Y1: 併給奨学金②（受給終了年月） | Z1: 併給奨学金②（状況） | AA1: 併給奨学金③（名称） | AB1: 併給奨学金③（支給団体） | AC1: 併給奨学金③（月額） | AD1: 併給奨学金③（受給開始年月） | AE1: 併給奨学金③（受給終了年月） | AF1: 併給奨学金③（状況） | AG1: 学習・研究計画（概要・テーマ）
A2: 0 | B2: 0 | C2: 0 | D2: 0 | E2: 0 | F2: 0 | G2: ★選択してください | H2: 0 | I2: / | J2: / | K2: 0 | L2: // | M2: #VALUE! | N2: 0 | O2: 0 | P2: 0 | Q2: 0 | R2: / | S2: / | T2: 0 | U2: 0 | V2: 0 | W2: 0 | X2: / | Y2: / | Z2: 0 | AA2: 0 | AB2: 0 | AC2: 0 | AD2: / | AE2: / | AF2: 0 | AG2: 0

Sheet リスト
A1: 在籍課程 | C1: 奨学金支給状況
A2: ★選択してください | C2: 受給中
A3: 学科生(短期大学) | C3: 申請中
A4: 学士課程 | C4: 受給決定済
A5: 修士（博士前期）課程
A6: 博士（博士後期）課程
A7: 5年一貫制博士課程
A8: 4年制博士課程
A9: 専門職学位課程

Sheet 一覧表
A1: 令和4年度 JEES日本語教育普及奨学金 応募者一覧・採否案
A3: 項番 | B3: 氏名 | E3: 性 別 | F3: 年齢 | G3: 国籍 | H3: 得点 | I3: 学籍状況(R4.10) | O3: 卒業予定 | P3: 日本語教員養成課程履修の有無 | Q3: 学習・研究ﾃｰﾏ | S3: ＜収入（月額）内訳（借入金、貯金の取崩額を除く）＞ | X3: 奨学金の併給状況（予定含む） | AD3: 特記事項 | AE3: 評価 | AF3: 採否
B4: カタカナ | C4: 漢字 | D4: ローマ字 | I4: 区分 | J4: 学校コード | K4: 大学名 | L4: 学部・研究科 | M4: 学科・専攻 | N4: 在籍課程・学年 | R4: 収入 （月額） | S4: 仕送り額 | T4: 生計を一にする同居者の収入 | U4: アルバイト収入／RA・TAの給与等 | V4: 特別研究員 研究奨励金 | W4: 高等教育の就学支援新制度給付型奨学金 | X4: 種別 | Y4: 奨学金名 | Z4: 支給団体名 | AA4: 年額 | AB4: 受給期間 | AC4: 状況
B5: ='【学生記入用】願書(様式1)'!D10 -> 0 | C5: ='【学生記入用】願書(様式1)'!D11 -> 0 | D5: ='【学生記入用】願書(様式1)'!D12 -> 0 | E5: ='【学生記入用】願書(様式1)'!Q19 -> 0 | F5: ='【学生記入用】願書(様式1)'!O19 -> 0 | G5: ='【学生記入用】願書(様式1)'!C17 -> 0 | K5: ='【学生記入用】願書(様式1)'!A15 -> 0 | L5: ='【学生記入用】願書(様式1)'!I15 -> 0 | M5: ='【学生記入用】願書(様式1)'!R15 -> 0 | N5: ='【学生記入用】願書(様式1)'!A16&'【学生記入用】願書(様式1)'!I16&"年" -> ★選択してください年 | O5: ='【学生記入用】願書(様式1)'!T16&"."&'【学生記入用】願書(様式1)'!W16 -> . | P5: ='【学生記入用】願書(様式1)'!R17 -> ★選択してください | Q5: ='【学生記入用】願書(様式1)'!G54 -> 0 | R5: ='【学生記入用】願書(様式1)'!H41 -> 0 | S5: ='【学生記入用】願書(様式1)'!H34 -> 0 | T5: ='【学生記入用】願書(様式1)'!H35 -> 0 | U5: ='【学生記入用】願書(様式1)'!H36 -> 0 | V5: ='【学生記入用】願書(様式1)'!H37 -> 0 | W5: ='【学生記入用】願書(様式1)'!H38 -> 0 | X5: ='【学生記入用】願書(様式1)'!A46 -> 0 | Y5: ='【学生記入用】願書(様式1)'!C46 -> 0 | Z5: ='【学生記入用】願書(様式1)'!I46 -> 0 | AA5: ='【学生記入用】願書(様式1)'!N46 -> 0 | AB5: ='【学生記入用】願書(様式1)'!R46&"."&'【学生記入用】願書(様式1)'!U46&"-"&'【学生記入用】願書(様式1)'!R47&"."&'【学生記入用】願書(様式1)'!U47 -> .-. | AC5: ='【学生記入用】願書(様式1)'!X46 -> 0
X6: ='【学生記入用】願書(様式1)'!A48 -> 0 | Y6: ='【学生記入用】願書(様式1)'!C48 -> 0 | Z6: ='【学生記入用】願書(様式1)'!I48 -> 0 | AA6: ='【学生記入用】願書(様式1)'!N48 -> 0 | AB6: ='【学生記入用】願書(様式1)'!R48&"."&'【学生記入用】願書(様式1)'!U48&"-"&'【学生記入用】願書(様式1)'!R49&"."&'【学生記入用】願書(様式1)'!U49 -> .-. | AC6: ='【学生記入用】願書(様式1)'!X48 -> 0
X7: ='【学生記入用】願書(様式1)'!A50 -> 0 | Y7: ='【学生記入用】願書(様式1)'!C50 -> 0 | Z7: ='【学生記入用】願書(様式1)'!I50 -> 0 | AA7: ='【学生記入用】願書(様式1)'!N50 -> 0 | AB7: ='【学生記入用】願書(様式1)'!R50&"."&'【学生記入用】願書(様式1)'!U50&"-"&'【学生記入用】願書(様式1)'!R51&"."&'【学生記入用】願書(様式1)'!U51 -> .-. | AC7: ='【学生記入用】願書(様式1)'!X50 -> 0
